BEGIN:VCALENDAR
VERSION:2.0
PRODID:DPCALENDAR
CALSCALE:GREGORIAN
X-WR-TIMEZONE:UTC
BEGIN:VEVENT
DTSTART;TZID=UTC:20250711T190000
DTEND;TZID=UTC:20250711T210000
UID:F25694B1-13C2-4188-98F9-A93643FC5EEC
SUMMARY:Stammtisch Juli
CREATED:20230204T163301Z
DTSTAMP:20230204T163301Z
URL:https://jawafreunde.de/index.php/termine/stammtisch-juli
DESCRIPTION:Im gemütlichen Ambiente treffen sich die Jawa-Freunde Vogtland e.V. jeden 2. Freitag im Monat.\N\NDieses Zusammentreffen wird genutzt um Ausfahrten und Treffen zu planen, technische Probleme und neue Bastelerfolge zu diskutieren.Die Jawa-Freunde Vogtland e.V. freuen sich über jeden Besucher des Jawa-Stammtisches.
X-ALT-DESC;FMTTYPE=text/html:<p>Im gemütlichen Ambiente treffen sich die Jawa-Freunde Vogtland e.V. jeden 2. Freitag im Monat.</p><hr id="system-readmore"><p>Dieses Zusammentreffen wird genutzt um Ausfahrten und Treffen zu planen, technische Probleme und neue Bastelerfolge zu diskutieren.<br /><br />Die Jawa-Freunde Vogtland e.V. freuen sich über jeden Besucher des Jawa-Stammtisches.</p>
LAST-MODIFIED:20250217T112435Z
SEQUENCE:64263094
LOCATION:Schloßstraße 3\, 08228 Rodewisch\, Sachsen\, Deutschland
GEO:50.52431726;12.40195078
X-LOCATION-DISPLAYNAME:Vereinsheim
X-ACCESS:1
X-HITS:0
X-COLOR:3366cc
X-IMAGE-FULL:https://jawafreunde.de/images/Plakate2023/Stammtisch%20OHC-2023.jpg
X-IMAGE-FULL-ALT:Stammtisch
X-IMAGE-INTRO:https://jawafreunde.de/images/Plakate2023/Stammtisch%20OHC-2023.jpg
X-IMAGE-INTRO-ALT:Stammtisch
X-SHOW-END-TIME:1
END:VEVENT
BEGIN:VEVENT
DTSTART;TZID=UTC:20260109T190000
DTEND;TZID=UTC:20260109T210000
UID:D691489A-F371-4677-A7D6-29A2F02803D4
SUMMARY:Stammtisch Januar
CREATED:20230204T163301Z
DTSTAMP:20230204T163301Z
URL:https://jawafreunde.de/index.php/termine/stammtisch-januar
DESCRIPTION:Im gemütlichen Ambiente treffen sich die Jawa-Freunde Vogtland e.V. jeden 2. Freitag im Monat.Dieses Zusammentreffen wird genutzt um Ausfahrten und Treffen zu planen, technische Probleme und neue Bastelerfolge zu diskutiern.Die Jawa-Freunde Vogtland e.V. freuen sich über jeden Besucher des Jawa-Stammtisches.
X-ALT-DESC;FMTTYPE=text/html:<p>Im gemütlichen Ambiente treffen sich die Jawa-Freunde Vogtland e.V. jeden 2. Freitag im Monat.<br />Dieses Zusammentreffen wird genutzt um Ausfahrten und Treffen zu planen, technische Probleme und neue Bastelerfolge zu diskutiern.<br /><br />Die Jawa-Freunde Vogtland e.V. freuen sich über jeden Besucher des Jawa-Stammtisches.</p>
LAST-MODIFIED:20260107T110715Z
SEQUENCE:92255654
LOCATION:Schloßstraße 3\, 08228 Rodewisch\, Sachsen\, Deutschland
GEO:50.52431726;12.40195078
X-LOCATION-DISPLAYNAME:Vereinsheim
X-ACCESS:1
X-HITS:0
X-COLOR:3366cc
X-IMAGE-FULL:https://jawafreunde.de/images/Plakate2023/Stammtisch.jpg
X-IMAGE-INTRO:https://jawafreunde.de/images/Plakate2023/Stammtisch.jpg
X-SHOW-END-TIME:1
END:VEVENT
BEGIN:VEVENT
DTSTART;TZID=UTC:20260213T190000
DTEND;TZID=UTC:20260213T210000
UID:F86837BC-4C5E-4156-90DD-30C4972C4499
SUMMARY:Stammtisch Februar
CREATED:20230204T163301Z
DTSTAMP:20230204T163301Z
URL:https://jawafreunde.de/index.php/termine/stammtisch-februar
DESCRIPTION:Im gemütlichen Ambiente treffen sich die Jawa-Freunde Vogtland e.V. jeden 2. Freitag im Monat.Dieses Zusammentreffen wird genutzt um Ausfahrten und Treffen zu planen, technische Probleme und neue Bastelerfolge zu diskutiern.Die Jawa-Freunde Vogtland e.V. freuen sich über jeden Besucher des Jawa-Stammtisches.
X-ALT-DESC;FMTTYPE=text/html:<p>Im gemütlichen Ambiente treffen sich die Jawa-Freunde Vogtland e.V. jeden 2. Freitag im Monat.<br />Dieses Zusammentreffen wird genutzt um Ausfahrten und Treffen zu planen, technische Probleme und neue Bastelerfolge zu diskutiern.<br /><br />Die Jawa-Freunde Vogtland e.V. freuen sich über jeden Besucher des Jawa-Stammtisches.</p>
LAST-MODIFIED:20260107T102939Z
SEQUENCE:92253398
LOCATION:Schloßstraße 3\, 08228 Rodewisch\, Sachsen\, Deutschland
GEO:50.52431726;12.40195078
X-LOCATION-DISPLAYNAME:Vereinsheim
X-ACCESS:1
X-HITS:6
X-COLOR:3366cc
X-SHOW-END-TIME:1
END:VEVENT
BEGIN:VEVENT
DTSTART;TZID=UTC:20260410T190000
DTEND;TZID=UTC:20260410T210000
UID:48088B62-B2AB-4D83-B249-B039D31D62F5
SUMMARY:Stammtisch April
CREATED:20230204T173751Z
DTSTAMP:20230204T173751Z
URL:https://jawafreunde.de/index.php/termine/stammtisch-april
DESCRIPTION:Im gemütlichen Ambiente treffen sich die Jawa-Freunde Vogtland e.V. jeden 2. Freitag im Monat.\N\NDieses Zusammentreffen wird genutzt um Ausfahrten und Treffen zu planen, technische Probleme und neue Bastelerfolge zu diskutieren.Die Jawa-Freunde Vogtland e.V. freuen sich über jeden Besucher des Jawa-Stammtisches.
X-ALT-DESC;FMTTYPE=text/html:<p>Im gemütlichen Ambiente treffen sich die Jawa-Freunde Vogtland e.V. jeden 2. Freitag im Monat.</p><hr id="system-readmore"><p>Dieses Zusammentreffen wird genutzt um Ausfahrten und Treffen zu planen, technische Probleme und neue Bastelerfolge zu diskutieren.<br /><br />Die Jawa-Freunde Vogtland e.V. freuen sich über jeden Besucher des Jawa-Stammtisches.</p>
LAST-MODIFIED:20260107T103029Z
SEQUENCE:92249558
LOCATION:Schloßstraße 3\, 08228 Rodewisch\, Sachsen\, Deutschland
GEO:50.52431726;12.40195078
X-LOCATION-DISPLAYNAME:Vereinsheim
X-ACCESS:1
X-HITS:0
X-COLOR:3366cc
X-IMAGE-FULL:https://jawafreunde.de/images/Plakate2023/Stammtisch.jpg
X-IMAGE-FULL-ALT:Stammtisch
X-IMAGE-INTRO:https://jawafreunde.de/images/Plakate2023/Stammtisch.jpg
X-IMAGE-INTRO-ALT:Stammtisch
X-SHOW-END-TIME:1
END:VEVENT
BEGIN:VEVENT
DTSTART;TZID=UTC:20260424T190000
DTEND;TZID=UTC:20260424T210000
UID:6F0353F6-ED8B-487A-9CA5-1AD818410413
SUMMARY:Stammtisch Vorbereitung 1.Mai
CREATED:20230204T173751Z
DTSTAMP:20230204T173751Z
URL:https://jawafreunde.de/index.php/termine/stammtisch-vorbereitung-1mai
DESCRIPTION:Im gemütlichen Ambiente treffen sich die Jawa-Freunde Vogtland e.V. um das Jawatreffen am 1.Mai vorzubereiten.
X-ALT-DESC;FMTTYPE=text/html:<p>Im gemütlichen Ambiente treffen sich die Jawa-Freunde Vogtland e.V. um das Jawatreffen am 1.Mai vorzubereiten.</p>
LAST-MODIFIED:20260107T103029Z
SEQUENCE:92249558
LOCATION:Schloßstraße 3\, 08228 Rodewisch\, Sachsen\, Deutschland
GEO:50.52431726;12.40195078
X-LOCATION-DISPLAYNAME:Vereinsheim
X-ACCESS:1
X-HITS:0
X-COLOR:3366cc
X-IMAGE-FULL:https://jawafreunde.de/images/Plakate2023/Stammtisch.jpg
X-IMAGE-FULL-ALT:Stammtisch
X-IMAGE-INTRO:https://jawafreunde.de/images/Plakate2023/Stammtisch.jpg
X-IMAGE-INTRO-ALT:Stammtisch
X-SHOW-END-TIME:1
END:VEVENT
BEGIN:VEVENT
DTSTART;TZID=UTC:20260508T190000
DTEND;TZID=UTC:20260508T210000
UID:0A5A1746-B8BE-44AC-A1BE-2F68149EEC5A
SUMMARY:Stammtisch Mai
CREATED:20230204T163301Z
DTSTAMP:20230204T163301Z
URL:https://jawafreunde.de/index.php/termine/stammtisch-februar-4
DESCRIPTION:Im gemütlichen Ambiente treffen sich die Jawa-Freunde Vogtland e.V. jeden 2. Freitag im Monat.\N\NDieses Zusammentreffen wird genutzt um Ausfahrten und Treffen zu planen, technische Probleme und neue Bastelerfolge zu diskutiern.Die Jawa-Freunde Vogtland e.V. freuen sich über jeden Besucher des Jawa-Stammtisches.
X-ALT-DESC;FMTTYPE=text/html:<p>Im gemütlichen Ambiente treffen sich die Jawa-Freunde Vogtland e.V. jeden 2. Freitag im Monat.</p><hr id="system-readmore"><p>Dieses Zusammentreffen wird genutzt um Ausfahrten und Treffen zu planen, technische Probleme und neue Bastelerfolge zu diskutiern.<br /><br />Die Jawa-Freunde Vogtland e.V. freuen sich über jeden Besucher des Jawa-Stammtisches.</p>
LAST-MODIFIED:20260107T103103Z
SEQUENCE:92253482
LOCATION:Schloßstraße 3\, 08228 Rodewisch\, Sachsen\, Deutschland
GEO:50.52431726;12.40195078
X-LOCATION-DISPLAYNAME:Vereinsheim
X-ACCESS:1
X-HITS:0
X-COLOR:3366cc
X-IMAGE-FULL:https://jawafreunde.de/images/Plakate2023/Stammtisch.jpg
X-IMAGE-FULL-ALT:Stammtisch
X-IMAGE-INTRO:https://jawafreunde.de/images/Plakate2023/Stammtisch.jpg
X-IMAGE-INTRO-ALT:Stammtisch
X-SHOW-END-TIME:1
END:VEVENT
BEGIN:VEVENT
DTSTART;TZID=UTC:20260612T190000
DTEND;TZID=UTC:20260612T210000
UID:815CC1F7-1FDB-4CD3-B595-ED88A3381CBA
SUMMARY:Stammtisch Juni
CREATED:20230204T163301Z
DTSTAMP:20230204T163301Z
URL:https://jawafreunde.de/index.php/termine/stammtisch-juni
DESCRIPTION:Im gemütlichen Ambiente treffen sich die Jawa-Freunde Vogtland e.V. jeden 2. Freitag im Monat.\N\NDieses Zusammentreffen wird genutzt um Ausfahrten und Treffen zu planen, technische Probleme und neue Bastelerfolge zu diskutiern.Die Jawa-Freunde Vogtland e.V. freuen sich über jeden Besucher des Jawa-Stammtisches.
X-ALT-DESC;FMTTYPE=text/html:<p>Im gemütlichen Ambiente treffen sich die Jawa-Freunde Vogtland e.V. jeden 2. Freitag im Monat.</p><hr id="system-readmore"><p>Dieses Zusammentreffen wird genutzt um Ausfahrten und Treffen zu planen, technische Probleme und neue Bastelerfolge zu diskutiern.<br /><br />Die Jawa-Freunde Vogtland e.V. freuen sich über jeden Besucher des Jawa-Stammtisches.</p>
LAST-MODIFIED:20260107T103127Z
SEQUENCE:92253506
LOCATION:Schloßstraße 3\, 08228 Rodewisch\, Sachsen\, Deutschland
GEO:50.52431726;12.40195078
X-LOCATION-DISPLAYNAME:Vereinsheim
X-ACCESS:1
X-HITS:0
X-COLOR:3366cc
X-IMAGE-FULL:https://jawafreunde.de/images/Plakate2023/Stammtisch.jpg
X-IMAGE-FULL-ALT:Stammtisch
X-IMAGE-INTRO:https://jawafreunde.de/images/Plakate2023/Stammtisch.jpg
X-IMAGE-INTRO-ALT:Stammtisch
X-SHOW-END-TIME:1
END:VEVENT
BEGIN:VEVENT
DTSTART;TZID=UTC:20260807T180000
DTEND;TZID=UTC:20260807T210000
UID:67DAEB4B-EF95-4C97-8D37-FABD6FCBDF24
SUMMARY:Stammtisch August
CREATED:20230204T163301Z
DTSTAMP:20230204T163301Z
URL:https://jawafreunde.de/index.php/termine/stammtisch-august
DESCRIPTION:Im August findet unser Stammtisch gemeinsamm mit unseren Frauen und dem Jawa 500 OHC-Treffen in Treuen statt\N\NDieses Zusammentreffen wird genutzt um Ausfahrten und Treffen zu planen, technische Probleme und neue Bastelerfolge zu diskutieren.Die Jawa-Freunde Vogtland e.V. freuen sich über jeden Besucher des Jawa-Stammtisches.
X-ALT-DESC;FMTTYPE=text/html:<p>Im August findet unser Stammtisch gemeinsamm mit unseren Frauen und dem Jawa 500 OHC-Treffen in Treuen statt</p><hr id="system-readmore"><p>Dieses Zusammentreffen wird genutzt um Ausfahrten und Treffen zu planen, technische Probleme und neue Bastelerfolge zu diskutieren.<br /><br />Die Jawa-Freunde Vogtland e.V. freuen sich über jeden Besucher des Jawa-Stammtisches.</p>
LAST-MODIFIED:20260417T132723Z
SEQUENCE:100904062
LOCATION:Veitenhäuser 8\, 08233 Treuen\, Sachsen\, Deutschland
GEO:50.52820209;12.32109205
X-LOCATION-DISPLAYNAME:Veitenhäuser, Treuen
X-ACCESS:1
X-HITS:0
X-COLOR:3366cc
X-IMAGE-FULL:https://jawafreunde.de/images/Plakate2026/Stammtisch%20Veitenhauser.jpeg
X-IMAGE-FULL-ALT:Stammtisch
X-IMAGE-INTRO:https://jawafreunde.de/images/Plakate2026/Stammtisch%20Veitenhauser.jpeg
X-IMAGE-INTRO-ALT:Stammtisch
X-SHOW-END-TIME:1
END:VEVENT
BEGIN:VEVENT
DTSTART;TZID=UTC:20260912T190000
DTEND;TZID=UTC:20260912T210000
UID:1B0709B1-6D39-499E-A415-B6C26CFB85C6
SUMMARY:Stammtisch September
CREATED:20230204T163301Z
DTSTAMP:20230204T163301Z
URL:https://jawafreunde.de/index.php/termine/stammtisch-september
DESCRIPTION:Im gemütlichen Ambiente treffen sich die Jawa-Freunde Vogtland e.V. jeden 2. Freitag im Monat.\N\NDieses Zusammentreffen wird genutzt um Ausfahrten und Treffen zu planen, technische Probleme und neue Bastelerfolge zu diskutieren.Die Jawa-Freunde Vogtland e.V. freuen sich über jeden Besucher des Jawa-Stammtisches.\NAnlässlich unseres Herbsttreffens findet der Stammtisch in Treuen am Fachwerkschloss statt.
X-ALT-DESC;FMTTYPE=text/html:<p>Im gemütlichen Ambiente treffen sich die Jawa-Freunde Vogtland e.V. jeden 2. Freitag im Monat.</p><hr id="system-readmore"><p>Dieses Zusammentreffen wird genutzt um Ausfahrten und Treffen zu planen, technische Probleme und neue Bastelerfolge zu diskutieren.<br /><br />Die Jawa-Freunde Vogtland e.V. freuen sich über jeden Besucher des Jawa-Stammtisches.</p><p><em><strong>Anlässlich unseres Herbsttreffens findet der Stammtisch in Treuen am Fachwerkschloss statt.</strong></em></p>
LAST-MODIFIED:20260107T110745Z
SEQUENCE:92255684
LOCATION:Schloßstraße 3\, 08228 Rodewisch\, Sachsen\, Deutschland
GEO:50.52431726;12.40195078
X-LOCATION-DISPLAYNAME:Vereinsheim
X-ACCESS:1
X-HITS:0
X-COLOR:3366cc
X-IMAGE-FULL:https://jawafreunde.de/images/Plakate2023/Stammtisch.jpg
X-IMAGE-FULL-ALT:Stammtisch
X-IMAGE-INTRO:https://jawafreunde.de/images/Plakate2023/Stammtisch.jpg
X-IMAGE-INTRO-ALT:Stammtisch
X-SHOW-END-TIME:1
END:VEVENT
BEGIN:VEVENT
DTSTART;TZID=UTC:20261009T190000
DTEND;TZID=UTC:20261009T210000
UID:75485165-01BF-4EC2-B4DE-CA2FE08143B8
SUMMARY:Stammtisch Oktober
CREATED:20230204T163301Z
DTSTAMP:20230204T163301Z
URL:https://jawafreunde.de/index.php/termine/stammtisch-februar-8
DESCRIPTION:Im gemütlichen Ambiente treffen sich die Jawa-Freunde Vogtland e.V. jeden 2. Freitag im Monat.\N\NDieses Zusammentreffen wird genutzt um Ausfahrten und Treffen zu planen, technische Probleme und neue Bastelerfolge zu diskutiern.Die Jawa-Freunde Vogtland e.V. freuen sich über jeden Besucher des Jawa-Stammtisches.
X-ALT-DESC;FMTTYPE=text/html:<p>Im gemütlichen Ambiente treffen sich die Jawa-Freunde Vogtland e.V. jeden 2. Freitag im Monat.</p><hr id="system-readmore"><p>Dieses Zusammentreffen wird genutzt um Ausfahrten und Treffen zu planen, technische Probleme und neue Bastelerfolge zu diskutiern.<br /><br />Die Jawa-Freunde Vogtland e.V. freuen sich über jeden Besucher des Jawa-Stammtisches.</p>
LAST-MODIFIED:20260107T103309Z
SEQUENCE:92253608
LOCATION:Schloßstraße 3\, 08228 Rodewisch\, Sachsen\, Deutschland
GEO:50.52431726;12.40195078
X-LOCATION-DISPLAYNAME:Vereinsheim
X-ACCESS:1
X-HITS:0
X-COLOR:3366cc
X-IMAGE-FULL:https://jawafreunde.de/images/Plakate2023/Stammtisch.jpg
X-IMAGE-FULL-ALT:Stammtisch
X-IMAGE-INTRO:https://jawafreunde.de/images/Plakate2023/Stammtisch.jpg
X-IMAGE-INTRO-ALT:Stammtisch
X-SHOW-END-TIME:1
END:VEVENT
BEGIN:VEVENT
DTSTART;TZID=UTC:20261113T190000
DTEND;TZID=UTC:20261113T210000
UID:BE4D284E-B428-4FD0-AD91-BE29BC5B97DD
SUMMARY:Stammtisch November
CREATED:20230204T163301Z
DTSTAMP:20230204T163301Z
URL:https://jawafreunde.de/index.php/termine/stammtisch-februar-9
DESCRIPTION:Im gemütlichen Ambiente treffen sich die Jawa-Freunde Vogtland e.V. jeden 2. Freitag im Monat.\N\NDieses Zusammentreffen wird genutzt um Ausfahrten und Treffen zu planen, technische Probleme und neue Bastelerfolge zu diskutieren.Die Jawa-Freunde Vogtland e.V. freuen sich über jeden Besucher des Jawa-Stammtisches.
X-ALT-DESC;FMTTYPE=text/html:<p>Im gemütlichen Ambiente treffen sich die Jawa-Freunde Vogtland e.V. jeden 2. Freitag im Monat.</p><hr id="system-readmore"><p>Dieses Zusammentreffen wird genutzt um Ausfahrten und Treffen zu planen, technische Probleme und neue Bastelerfolge zu diskutieren.<br /><br />Die Jawa-Freunde Vogtland e.V. freuen sich über jeden Besucher des Jawa-Stammtisches.</p>
LAST-MODIFIED:20260107T103335Z
SEQUENCE:92253634
LOCATION:Schloßstraße 3\, 08228 Rodewisch\, Sachsen\, Deutschland
GEO:50.52431726;12.40195078
X-LOCATION-DISPLAYNAME:Vereinsheim
X-ACCESS:1
X-HITS:0
X-COLOR:3366cc
X-IMAGE-FULL:https://jawafreunde.de/images/Plakate2023/Stammtisch.jpg
X-IMAGE-FULL-ALT:Stammtisch
X-IMAGE-INTRO:https://jawafreunde.de/images/Plakate2023/Stammtisch.jpg
X-IMAGE-INTRO-ALT:Stammtisch
X-SHOW-END-TIME:1
END:VEVENT
END:VCALENDAR