BEGIN:VCALENDAR
VERSION:2.0
PRODID:DPCALENDAR
CALSCALE:GREGORIAN
X-WR-TIMEZONE:UTC
BEGIN:VEVENT
DTSTART;VALUE=DATE:20230610
DTEND;VALUE=DATE:20230613
UID:D27D433A-CA0C-4A0E-BA3B-914320308820
SUMMARY:15. JAWA OHC Treffen (CZ)
CREATED:20230307T140804Z
DTSTAMP:20230307T140804Z
URL:https://jawafreunde.de/index.php/termine/15-jawa-ohc-treffen
DESCRIPTION:25. JAWA OHC Treffen \N\Nin Rovensko in Tschechien.
X-ALT-DESC;FMTTYPE=text/html:<h4>25. JAWA OHC Treffen </h4><hr id="system-readmore"><p>in Rovensko in Tschechien.</p>
LAST-MODIFIED:20230308T162652Z
SEQUENCE:94728
X-ACCESS:1
X-HITS:0
X-COLOR:3366cc
X-SHOW-END-TIME:1
END:VEVENT
BEGIN:VEVENT
DTSTART;TZID=UTC:20230701T120000
DTEND;TZID=UTC:20230701T130000
UID:01FFD801-60F4-4F46-853F-66CFECA24E50
SUMMARY:9. Elsterberger Ruinenhupen
CREATED:20230519T171901Z
DTSTAMP:20230519T171901Z
URL:https://jawafreunde.de/index.php/termine/9-elsterberger-ruinenhupen
DESCRIPTION:9. Elsterberger Ruinenhupen\NAusschließlich für Motorräder !
X-ALT-DESC;FMTTYPE=text/html:<p><span style="font-size: 18px;"><strong>9. Elsterberger Ruinenhupen</strong></span></p><p><span style="font-size: 14px;">Ausschließlich für Motorräder !</span></p>
LAST-MODIFIED:20230519T172651Z
SEQUENCE:470
X-ACCESS:1
X-HITS:0
X-COLOR:3366cc
X-IMAGE-FULL:https://jawafreunde.de/images/Plakate2023/ee9a51d5-bcc9-4b27-8d98-bb74616d0d78.jpg
X-IMAGE-INTRO:https://jawafreunde.de/images/Plakate2023/ee9a51d5-bcc9-4b27-8d98-bb74616d0d78.jpg
X-SHOW-END-TIME:0
END:VEVENT
BEGIN:VEVENT
DTSTART;VALUE=DATE:20230715
DTEND;VALUE=DATE:20230717
UID:25E627D6-6A99-4D98-8E4E-8C54926A0ADD
SUMMARY:26.Zschorlauer Dreieckrennen
CREATED:20230519T172051Z
DTSTAMP:20230519T172051Z
URL:https://jawafreunde.de/index.php/termine/26-zschorlauer-dreieckrennen
DESCRIPTION:26.Zschorlauer Dreieckrennen
X-ALT-DESC;FMTTYPE=text/html:<p><strong>26.Zschorlauer Dreieckrennen</strong></p>
LAST-MODIFIED:20230519T173121Z
SEQUENCE:630
X-ACCESS:1
X-HITS:0
X-COLOR:3366cc
X-IMAGE-FULL:https://jawafreunde.de/images/Plakate2023/f080c006-1dcd-44fd-a372-6c1f61744bc0.jpg
X-IMAGE-INTRO:https://jawafreunde.de/images/Plakate2023/f080c006-1dcd-44fd-a372-6c1f61744bc0.jpg
X-SHOW-END-TIME:1
END:VEVENT
BEGIN:VEVENT
DTSTART;VALUE=DATE:20230812
DTEND;VALUE=DATE:20230813
UID:0ABFE1C7-0686-403C-A25A-4B645E9F1331
SUMMARY:Oldtimerausfahrt für Auto´s & Motorräder
CREATED:20230205T195324Z
DTSTAMP:20230205T195324Z
URL:https://jawafreunde.de/index.php/termine/oldtimerausfahrt-fuer-autos-motorraeder
DESCRIPTION:Oldtimerausfahrt für Auto´s & Motorräder\NInfos folgen
X-ALT-DESC;FMTTYPE=text/html:<p><strong>Oldtimerausfahrt für Auto´s &amp; Motorräder</strong></p><p>Infos folgen</p>
LAST-MODIFIED:20230309T124358Z
SEQUENCE:2739034
X-ACCESS:1
X-HITS:0
X-COLOR:3366cc
X-IMAGE-FULL:https://jawafreunde.de/images/Plakate2023/Oldtimerausfahrt%20-2023.jpg
X-IMAGE-FULL-ALT:Oldtimerausfahrt
X-IMAGE-INTRO:https://jawafreunde.de/images/Plakate2023/Oldtimerausfahrt%20-2023.jpg
X-IMAGE-INTRO-ALT:Oldtimerausfahrt
X-SHOW-END-TIME:1
END:VEVENT
BEGIN:VEVENT
DTSTART;VALUE=DATE:20240601
DTEND;VALUE=DATE:20240602
UID:BFCB8C85-904B-4632-BCC1-B627EA73C170
SUMMARY:25. Kirchberg Klassik
CREATED:20230307T140101Z
DTSTAMP:20230307T140101Z
URL:https://jawafreunde.de/index.php/termine/25-kirchberg-klassik
DESCRIPTION:25. Kirchberg Klassik\N\Nein Volksfest auf Rädern in Kirchberg bei Zwickau
X-ALT-DESC;FMTTYPE=text/html:<h4><strong>25. Kirchberg Klassik<br /></strong></h4><hr id="system-readmore"><p>ein Volksfest auf Rädern in Kirchberg bei Zwickau</p>
LAST-MODIFIED:20240404T195132Z
SEQUENCE:34062631
X-ACCESS:1
X-HITS:0
X-COLOR:3366cc
X-IMAGE-FULL:https://jawafreunde.de/images/Plakate2024/Kirchberg-Classic.jpeg
X-IMAGE-FULL-ALT:KirchbergKlassik2023
X-IMAGE-INTRO:https://jawafreunde.de/images/Plakate2024/Kirchberg-Classic.jpeg
X-IMAGE-INTRO-ALT:KirchbergKlassik2023
X-SHOW-END-TIME:0
END:VEVENT
BEGIN:VEVENT
DTSTART;VALUE=DATE:20250420
DTEND;VALUE=DATE:20250421
UID:CC39DDC0-D243-4294-99D4-611660644F87
SUMMARY:ABGESAGT !! JAWA Saisoneröffnung Vollmershain
CREATED:20230205T193011Z
DTSTAMP:20230205T193011Z
URL:https://jawafreunde.de/index.php/termine/jawa-saisoneroeffnung-vollmershain
DESCRIPTION:Saisoneröffnung in Vollmershain.\N\NDiese Jahr findet kein Treffen statt !
X-ALT-DESC;FMTTYPE=text/html:<p><span style="font-size: 12pt; font-family: 'arial black', 'avant garde';">Saisoneröffnung in Vollmershain.</span></p><hr id="system-readmore"><p>Diese Jahr findet kein Treffen statt !</p>
LAST-MODIFIED:20250413T181029Z
SEQUENCE:68942418
LOCATION:04626 Vollmershain\, Thüringen\, Deutschland
GEO:50.85261165;12.28712101
X-LOCATION-DISPLAYNAME:Vollmershain
X-ACCESS:1
X-HITS:0
X-COLOR:3366cc
X-IMAGE-FULL-ALT:Vollmershain
X-IMAGE-INTRO-ALT:Vollmershain
X-SHOW-END-TIME:1
END:VEVENT
BEGIN:VEVENT
DTSTART;VALUE=DATE:20250516
DTEND;VALUE=DATE:20250519
UID:A26F9BCC-D9FF-4CC3-9200-9BE6EAA9ED6B
SUMMARY:Jawa Frühjahrsausfahrt
CREATED:20230205T194136Z
DTSTAMP:20230205T194136Z
URL:https://jawafreunde.de/index.php/termine/oldtimerausfahrt-2
DESCRIPTION:Jawa Frühjahrsausfahrt nach Thüringen
X-ALT-DESC;FMTTYPE=text/html:<p>Jawa Frühjahrsausfahrt nach Thüringen</p>
LAST-MODIFIED:20250217T113741Z
SEQUENCE:64166165
X-ACCESS:1
X-HITS:0
X-COLOR:3366cc
X-IMAGE-FULL-CAPTION:Frühjahrsausfahrt
X-IMAGE-INTRO-ALT:Frühjahrsausfahrt
X-SHOW-END-TIME:1
END:VEVENT
BEGIN:VEVENT
DTSTART;VALUE=DATE:20250517
DTEND;VALUE=DATE:20250519
UID:C99DAE4D-07A1-4EBE-8DF8-E6C15563B8B8
SUMMARY:23. Vogtland IFA Fahrzeugfestival
CREATED:20230307T140254Z
DTSTAMP:20230307T140254Z
URL:https://jawafreunde.de/index.php/termine/23-vogtland-ifa-fahrzeugfestival
DESCRIPTION:24. Vogtland IFA Fahrzeugfestival
X-ALT-DESC;FMTTYPE=text/html:<h4>24. Vogtland IFA Fahrzeugfestival</h4>
LAST-MODIFIED:20250217T113407Z
SEQUENCE:61594273
X-ACCESS:1
X-HITS:0
X-COLOR:3366cc
X-IMAGE-FULL-ALT:IFA Treffen
X-IMAGE-INTRO-ALT:IFA Treffen
X-SHOW-END-TIME:1
END:VEVENT
BEGIN:VEVENT
DTSTART;VALUE=DATE:20250713
DTEND;VALUE=DATE:20250716
UID:BFF8D618-8E29-44BA-9D4D-37F85269A080
SUMMARY:21.Treffen Jawafreunde Magdeburg
CREATED:20230307T140411Z
DTSTAMP:20230307T140411Z
URL:https://jawafreunde.de/index.php/termine/21-treffen-jawafreunde-magdeburg
DESCRIPTION:22.Treffen Jawafreunde Magdeburg\N\N 
X-ALT-DESC;FMTTYPE=text/html:<h4>22.Treffen Jawafreunde Magdeburg</h4><hr id="system-readmore"><h4> </h4>
LAST-MODIFIED:20250217T114646Z
SEQUENCE:61594955
X-ACCESS:1
X-HITS:0
X-COLOR:3366cc
X-IMAGE-FULL-ALT:FlyerMagdeburg
X-IMAGE-INTRO-ALT:FlyerMagdeburg
X-SHOW-END-TIME:1
END:VEVENT
BEGIN:VEVENT
DTSTART;TZID=UTC:20260425T070000
DTEND;TZID=UTC:20260425T233000
UID:FD1811EC-8503-46BA-A4C6-3674853A163B
SUMMARY:Busausfahrt Zündmagnet Wurzen
CREATED:20240921T194453Z
DTSTAMP:20240921T194453Z
URL:https://jawafreunde.de/index.php/termine/busausfahrt-zuendmagnet-wurzen
DESCRIPTION:Busausfahrt nach Wurzen zum Zündmagnet\Norganisiert durch Oldtimerclub Reichenbach 50€/pro Person
X-ALT-DESC;FMTTYPE=text/html:<p><em><strong>Busausfahrt nach Wurzen zum Zündmagnet</strong></em></p><p>organisiert durch Oldtimerclub Reichenbach 50€/pro Person</p>
LAST-MODIFIED:20260107T105446Z
SEQUENCE:40835393
X-ACCESS:1
X-HITS:0
X-COLOR:3366cc
X-SHOW-END-TIME:0
END:VEVENT
BEGIN:VEVENT
DTSTART;VALUE=DATE:20260514
DTEND;VALUE=DATE:20260515
UID:B4330B6D-13DC-4DFE-A0D7-3C7BEA77F9F5
SUMMARY:Oldtimerausfahrt zu Himmelfahrt
CREATED:20230205T194136Z
DTSTAMP:20230205T194136Z
URL:https://jawafreunde.de/index.php/termine/oldtimerausfahrt
DESCRIPTION:Oldtimerausfahrt zur Himmelfahrt
X-ALT-DESC;FMTTYPE=text/html:<p><strong>Oldtimerausfahrt zur Himmelfahrt</strong></p>
LAST-MODIFIED:20260417T132443Z
SEQUENCE:100806187
X-ACCESS:1
X-HITS:0
X-COLOR:3366cc
X-IMAGE-FULL:https://jawafreunde.de/images/Plakate2026/Himmelfahrt.jpeg
X-IMAGE-FULL-CAPTION:Himmelfahrt
X-IMAGE-INTRO:https://jawafreunde.de/images/Plakate2026/Himmelfahrt.jpeg
X-IMAGE-INTRO-ALT:Himmelfahrt
X-SHOW-END-TIME:1
END:VEVENT
BEGIN:VEVENT
DTSTART;VALUE=DATE:20260525
DTEND;VALUE=DATE:20260526
UID:D20290A2-ED4A-4429-A79E-B38B5999B2B0
SUMMARY:Oldtimer-Rundfahrt zum Deutschen Mühlentag
CREATED:20230205T190617Z
DTSTAMP:20230205T190617Z
URL:https://jawafreunde.de/index.php/termine/temp-2
DESCRIPTION:Oldtimer-Rundfahrt zum Deutschen Mühlentag\NInfos folgen
X-ALT-DESC;FMTTYPE=text/html:<p><strong>Oldtimer-Rundfahrt zum Deutschen Mühlentag</strong></p><p>Infos folgen</p>
LAST-MODIFIED:20260417T132658Z
SEQUENCE:100808441
X-ACCESS:1
X-HITS:0
X-COLOR:3366cc
X-IMAGE-FULL:https://jawafreunde.de/images/Plakate2026/Muhlentag.jpeg
X-IMAGE-FULL-ALT:Pfingstmontag
X-IMAGE-INTRO:https://jawafreunde.de/images/Plakate2026/Muhlentag.jpeg
X-IMAGE-INTRO-ALT:Pfingstmontag
X-SHOW-END-TIME:1
END:VEVENT
BEGIN:VEVENT
DTSTART;VALUE=DATE:20260626
DTEND;VALUE=DATE:20260629
UID:42607C30-B0A7-42B5-89A6-682CD2FFFA71
SUMMARY:Motorradausfahrt
CREATED:20230205T195324Z
DTSTAMP:20230205T195324Z
URL:https://jawafreunde.de/index.php/termine/motorradausfahrt
DESCRIPTION:Motoraradausfahrt\NMasserberg / Thüringen Infos folgen
X-ALT-DESC;FMTTYPE=text/html:<p><strong>Motoraradausfahrt</strong></p><p>Masserberg / Thüringen <br /><br />Infos folgen</p>
LAST-MODIFIED:20260417T132621Z
SEQUENCE:100805577
X-ACCESS:1
X-HITS:0
X-COLOR:3366cc
X-IMAGE-FULL:https://jawafreunde.de/images/Plakate2026/Masserberg.jpeg
X-IMAGE-FULL-ALT:Oldtimerausfahrt
X-IMAGE-INTRO:https://jawafreunde.de/images/Plakate2026/Masserberg.jpeg
X-IMAGE-INTRO-ALT:Oldtimerausfahrt
X-SHOW-END-TIME:1
END:VEVENT
BEGIN:VEVENT
DTSTART;VALUE=DATE:20260718
DTEND;VALUE=DATE:20260719
UID:018558A2-B051-441C-BB52-DF5F50A347BE
SUMMARY:Moped Ausfahrt
CREATED:20230519T171901Z
DTSTAMP:20230519T171901Z
URL:https://jawafreunde.de/index.php/termine/mopedausfahrt
DESCRIPTION:Moped Ausfahrt
X-ALT-DESC;FMTTYPE=text/html:<p><strong>Moped Ausfahrt</strong></p>
LAST-MODIFIED:20260107T105703Z
SEQUENCE:83266682
X-ACCESS:1
X-HITS:0
X-COLOR:3366cc
X-SHOW-END-TIME:0
END:VEVENT
BEGIN:VEVENT
DTSTART;VALUE=DATE:20260919
DTEND;VALUE=DATE:20260921
UID:D27CA3BA-7A37-48FD-8DAB-58B3FC225CF7
SUMMARY:HTC Museumsfest und Oldtimertreffen
CREATED:20230609T085254Z
DTSTAMP:20230609T085254Z
URL:https://jawafreunde.de/index.php/termine/oldtimertreffen-muelsen
DESCRIPTION:HTC Museumsfest und Oldtimertreffen im Oldtimer Museum Culitzsch
X-ALT-DESC;FMTTYPE=text/html:<p>HTC Museumsfest und Oldtimertreffen im Oldtimer Museum Culitzsch</p>
LAST-MODIFIED:20260107T110514Z
SEQUENCE:81483140
X-ACCESS:1
X-HITS:0
X-COLOR:3366cc
X-IMAGE-FULL-ALT:Bild
X-IMAGE-INTRO-ALT:Bild
X-SHOW-END-TIME:1
END:VEVENT
BEGIN:VEVENT
DTSTART;VALUE=DATE:20261115
DTEND;VALUE=DATE:20261116
UID:45826257-0E5E-4758-9208-40045061A4E0
SUMMARY:Martinsgans Essen
CREATED:20230205T191020Z
DTSTAMP:20230205T191020Z
URL:https://jawafreunde.de/index.php/termine/martinsgans-essen
DESCRIPTION:Martinsgans Essen\Nim Gasthof "Na Grundu" Tschechien
X-ALT-DESC;FMTTYPE=text/html:<p><strong>Martinsgans Essen</strong></p><p>im Gasthof "Na Grundu" Tschechien</p>
LAST-MODIFIED:20260417T132532Z
SEQUENCE:100808112
X-ACCESS:1
X-HITS:0
X-COLOR:3366cc
X-IMAGE-FULL:https://jawafreunde.de/images/Plakate2026/MartinsGans.jpeg
X-IMAGE-INTRO:https://jawafreunde.de/images/Plakate2026/MartinsGans.jpeg
X-SHOW-END-TIME:1
END:VEVENT
END:VCALENDAR