BEGIN:VCALENDAR
VERSION:2.0
PRODID:DPCALENDAR
CALSCALE:GREGORIAN
X-WR-TIMEZONE:UTC
BEGIN:VEVENT
DTSTART;TZID=UTC:20230708T100000
DTEND;TZID=UTC:20230708T180000
UID:1502D540-9000-46DE-A034-37F7B4D032E3
SUMMARY:Rützengrüner Traktor- und Oldtimertreffen
CREATED:20230706T045204Z
DTSTAMP:20230706T045204Z
URL:https://jawafreunde.de/index.php/termine/ruetzengruener-traktor-und-oldtimertreffen
DESCRIPTION:Rützengrüner Traktor- und Oldtimertreffen
X-ALT-DESC;FMTTYPE=text/html:<p>Rützengrüner Traktor- und Oldtimertreffen</p>
X-ACCESS:1
X-HITS:0
X-COLOR:3366CC
X-IMAGE-FULL:https://jawafreunde.de/images/Plakate2023/830955f2-67a6-4b5f-98d5-73e91f63e1c7.jpg
X-IMAGE-INTRO:https://jawafreunde.de/images/Plakate2023/830955f2-67a6-4b5f-98d5-73e91f63e1c7.jpg
X-SHOW-END-TIME:0
END:VEVENT
BEGIN:VEVENT
DTSTART;VALUE=DATE:20230730
DTEND;VALUE=DATE:20230731
UID:7F6DDDDB-B4C2-46B8-B6AA-25E583137AB6
SUMMARY:Insel & Parkfest - 100 Jahre Stadt Rodewisch
CREATED:20230205T195627Z
DTSTAMP:20230205T195627Z
URL:https://jawafreunde.de/index.php/termine/insel-parkfest-100-jahre-stadt-rodewisch
DESCRIPTION:Insel & Parkfest - 100 Jahre Stadt Rodewisch
X-ALT-DESC;FMTTYPE=text/html:<p><strong>Insel &amp; Parkfest - 100 Jahre Stadt Rodewisch</strong></p>
LAST-MODIFIED:20230309T124336Z
SEQUENCE:2738829
X-ACCESS:1
X-HITS:0
X-COLOR:3366CC
X-IMAGE-FULL:https://jawafreunde.de/images/Plakate2023/Insel%20-%20Parkfest%202023.jpg
X-IMAGE-FULL-ALT:FlyerRodewisch
X-IMAGE-INTRO:https://jawafreunde.de/images/Plakate2023/Insel%20-%20Parkfest%202023.jpg
X-IMAGE-INTRO-ALT:FlyerRodewisch
X-SHOW-END-TIME:1
END:VEVENT
BEGIN:VEVENT
DTSTART;VALUE=DATE:20251108
DTEND;VALUE=DATE:20251109
UID:359FC21B-447B-46AB-B2C4-F02F65C9C2CF
SUMMARY:Arbeitseinsatz "Winterfestmachung"
CREATED:20250217T113659Z
DTSTAMP:20250217T113659Z
URL:https://jawafreunde.de/index.php/termine/arbeitseinstatz-fruehjahrsputz-2
DESCRIPTION:Arbeitseinsatz "Winterfestmachung"\NInfos folgen
X-ALT-DESC;FMTTYPE=text/html:<p><strong>Arbeitseinsatz "Winterfestmachung"</strong></p><p>Infos folgen</p>
LAST-MODIFIED:20250217T125507Z
SEQUENCE:4688
LOCATION:Schloßstraße 3\, 08228 Rodewisch\, Sachsen\, Deutschland
GEO:50.52431726;12.40195078
X-LOCATION-DISPLAYNAME:Vereinsheim
X-ACCESS:1
X-HITS:0
X-COLOR:3366CC
X-IMAGE-FULL-ALT:Frühjahrsputz
X-IMAGE-INTRO-ALT:Frühjahrsputz
X-SHOW-END-TIME:1
END:VEVENT
BEGIN:VEVENT
DTSTART;VALUE=DATE:20260418
DTEND;VALUE=DATE:20260419
UID:F9FC0759-C4E7-4D73-AC80-C74D4F3B195B
SUMMARY:Arbeitseinsatz "Frühjahrsputz"
CREATED:20230205T191318Z
DTSTAMP:20230205T191318Z
URL:https://jawafreunde.de/index.php/termine/arbeitseinstatz-fruehjahrsputz
DESCRIPTION:Arbeitseinsatz "Frühjahrsputz - Streicharbeiten am Vereinshaus - Vorbereitung 1.Mai"\NInfos folgen
X-ALT-DESC;FMTTYPE=text/html:<p><strong>Arbeitseinsatz "Frühjahrsputz - Streicharbeiten am Vereinshaus - Vorbereitung 1.Mai"</strong></p><p>Infos folgen</p>
LAST-MODIFIED:20260417T132422Z
SEQUENCE:100807864
LOCATION:Schloßstraße 3\, 08228 Rodewisch\, Sachsen\, Deutschland
GEO:50.52431726;12.40195078
X-LOCATION-DISPLAYNAME:Vereinsheim
X-ACCESS:1
X-HITS:2
X-COLOR:3366CC
X-IMAGE-FULL:https://jawafreunde.de/images/Plakate2026/Fruhjahrsputz.jpeg
X-IMAGE-FULL-ALT:Frühjahrsputz
X-IMAGE-INTRO:https://jawafreunde.de/images/Plakate2026/Fruhjahrsputz.jpeg
X-IMAGE-INTRO-ALT:Frühjahrsputz
X-SHOW-END-TIME:1
END:VEVENT
BEGIN:VEVENT
DTSTART;VALUE=DATE:20260726
DTEND;VALUE=DATE:20260727
UID:BB4C55AE-0614-4553-A833-5BE1F33B241B
SUMMARY:Kirmis in Rodewisch
CREATED:20230307T140902Z
DTSTAMP:20230307T140902Z
URL:https://jawafreunde.de/index.php/termine/insel-parkfest-100-jahre-stadt-rodewisch-2
DESCRIPTION:Kirmis Rodewisch
X-ALT-DESC;FMTTYPE=text/html:<h4>Kirmis Rodewisch</h4>
LAST-MODIFIED:20260417T132510Z
SEQUENCE:98234168
LOCATION:Schloßstraße 3\, 08228 Rodewisch\, Sachsen\, Deutschland
GEO:50.52431726;12.40195078
X-LOCATION-DISPLAYNAME:Vereinsheim
X-ACCESS:1
X-HITS:0
X-COLOR:3366CC
X-IMAGE-FULL:https://jawafreunde.de/images/Plakate2026/Kirmes.jpeg
X-IMAGE-INTRO:https://jawafreunde.de/images/Plakate2026/Kirmes.jpeg
X-SHOW-END-TIME:1
END:VEVENT
BEGIN:VEVENT
DTSTART;VALUE=DATE:20261017
DTEND;VALUE=DATE:20261018
UID:E52E60D7-5C22-47B2-98DF-5D6747129355
SUMMARY:9. JAWA - Wandertag 
CREATED:20230205T191719Z
DTSTAMP:20230205T191719Z
URL:https://jawafreunde.de/index.php/termine/9-jawa-wandertag
DESCRIPTION:9. JAWA - Wandertag \NInfos folgen
X-ALT-DESC;FMTTYPE=text/html:<p><strong>9. JAWA - Wandertag </strong></p><p>Infos folgen</p>
LAST-MODIFIED:20260417T132741Z
SEQUENCE:100807822
X-ACCESS:1
X-HITS:0
X-COLOR:3366CC
X-IMAGE-FULL:https://jawafreunde.de/images/Plakate2026/Wantertag.jpeg
X-IMAGE-FULL-ALT:Wandertag
X-IMAGE-INTRO:https://jawafreunde.de/images/Plakate2026/Wantertag.jpeg
X-IMAGE-INTRO-ALT:Wandertag
X-SHOW-END-TIME:1
END:VEVENT
BEGIN:VEVENT
DTSTART;VALUE=DATE:20261107
DTEND;VALUE=DATE:20261108
UID:F4D49252-2E10-44A0-89F9-228EEA4C96F1
SUMMARY:Arbeitseinsatz "Winterfestmachung"
CREATED:20230205T191530Z
DTSTAMP:20230205T191530Z
URL:https://jawafreunde.de/index.php/termine/arbeitseinsatz-winterfestmachung
DESCRIPTION:Arbeitseinsatz "Winterfestmachung"\NInfos folgen
X-ALT-DESC;FMTTYPE=text/html:<p><strong>Arbeitseinsatz "Winterfestmachung"</strong></p><p>Infos folgen</p>
LAST-MODIFIED:20260417T132758Z
SEQUENCE:100807948
LOCATION:Schloßstraße 3\, 08228 Rodewisch\, Sachsen\, Deutschland
GEO:50.52431726;12.40195078
X-LOCATION-DISPLAYNAME:Vereinsheim
X-ACCESS:1
X-HITS:0
X-COLOR:3366CC
X-IMAGE-FULL:https://jawafreunde.de/images/Plakate2024/Wintercheck.jpeg
X-IMAGE-FULL-ALT:Winterfestmachung
X-IMAGE-INTRO:https://jawafreunde.de/images/Plakate2024/Wintercheck.jpeg
X-IMAGE-INTRO-ALT:Winterfestmachung
X-SHOW-END-TIME:1
END:VEVENT
END:VCALENDAR