BEGIN:VCALENDAR
VERSION:2.0
PRODID:DPCALENDAR
CALSCALE:GREGORIAN
X-WR-TIMEZONE:UTC
BEGIN:VEVENT
DTSTART;TZID=UTC:20230708T100000
DTEND;TZID=UTC:20230708T230000
UID:56BDB8E4-FA66-4D3C-B87B-59A9D1754918
SUMMARY:DDR Museum Vogtland / Süßebach 7. Ausstellung am 08. Juli 2023
CREATED:20230704T205744Z
DTSTAMP:20230704T205744Z
URL:https://www.ddr-museum-vogtland.de/
DESCRIPTION:TRAKTOREN & TRADITION - Historische Technik\N\Nweiter Infos unter: DDR-Museum-Vogtland Suessebach
X-ALT-DESC;FMTTYPE=text/html:<h5 class="ce_headline">TRAKTOREN &amp; TRADITION - Historische Technik</h5><hr id="system-readmore"><p><span style="font-size: 12px;">weiter Infos unter: <a href="https://www.ddr-museum-vogtland.de/">DDR-Museum-Vogtland Suessebach</a></span></p>
LAST-MODIFIED:20230704T205958Z
SEQUENCE:134
X-ACCESS:1
X-HITS:0
X-COLOR:3366cc
X-IMAGE-FULL:https://jawafreunde.de/images/Plakate2023/Plakat%20Traktoren%20Ausstellung.png
X-IMAGE-INTRO:https://jawafreunde.de/images/Plakate2023/Plakat%20Traktoren%20Ausstellung.png
X-SHOW-END-TIME:1
END:VEVENT
BEGIN:VEVENT
DTSTART;VALUE=DATE:20230910
DTEND;VALUE=DATE:20230911
UID:D57B0271-F403-4B58-B1F5-1B5E0D4A0CFE
SUMMARY:23. JAWA und Oldtimer Herbsttreffen
CREATED:20230307T141052Z
DTSTAMP:20230307T141052Z
URL:https://jawafreunde.de/index.php/termine/23-jawa-und-oldtimer-herbsttreffen
DESCRIPTION:23. JAWA und Oldtimer Herbsttreffen\N\Nam Fachwerkschloss in Treuen.
X-ALT-DESC;FMTTYPE=text/html:<h4>23. JAWA und Oldtimer Herbsttreffen</h4><hr id="system-readmore"><p>am Fachwerkschloss in Treuen.</p>
LAST-MODIFIED:20230831T074412Z
SEQUENCE:15269600
LOCATION:Marktplatz\, 08233 Treuen\, Sachsen\, Deutschland
GEO:50.53720368;12.31079757
X-LOCATION-DISPLAYNAME:Fachwerkschloss Treuen
X-ACCESS:1
X-HITS:0
X-COLOR:3366cc
X-IMAGE-FULL:https://jawafreunde.de/images/Plakate2023/Schloss-Treuen2023.jpg
X-IMAGE-FULL-ALT:Herbsttreffen
X-IMAGE-INTRO:https://jawafreunde.de/images/Plakate2023/Herbsttreffen%202023.jpg
X-IMAGE-INTRO-ALT:Herbsttreffen
X-SHOW-END-TIME:1
END:VEVENT
BEGIN:VEVENT
DTSTART;TZID=UTC:20231125T190000
DTEND;TZID=UTC:20231125T210000
UID:34201016-3E3E-4631-962A-AEE3EB4958E2
SUMMARY:Lichtlefest & gemütlicher Abend
CREATED:20230204T163301Z
DTSTAMP:20230204T163301Z
URL:https://jawafreunde.de/index.php/termine/lichtlefest-gemuetlicher-abend
DESCRIPTION:Lichtlefest & gemütlicher Abend\NInfos folgen
X-ALT-DESC;FMTTYPE=text/html:<p><strong>Lichtlefest &amp; gemütlicher Abend</strong></p><p>Infos folgen</p>
LAST-MODIFIED:20230309T124545Z
SEQUENCE:2837564
LOCATION:Schloßstraße 3\, 08228 Rodewisch\, Sachsen\, Deutschland
GEO:50.52431726;12.40195078
X-LOCATION-DISPLAYNAME:Vereinsheim
X-ACCESS:1
X-HITS:0
X-COLOR:3366cc
X-IMAGE-FULL:https://jawafreunde.de/images/Plakate2023/Lichtlefest%202023.jpg
X-IMAGE-FULL-ALT:Lichtlefest
X-IMAGE-INTRO:https://jawafreunde.de/images/Plakate2023/Lichtlefest%202023.jpg
X-IMAGE-INTRO-ALT:Lichtlefest
X-SHOW-END-TIME:1
END:VEVENT
BEGIN:VEVENT
DTSTART;VALUE=DATE:20250615
DTEND;VALUE=DATE:20250616
UID:28F8AD25-0B43-44AD-81B1-97119665B8B8
SUMMARY:18. Treffen Jawafreunde Chemnitz
CREATED:20230308T165226Z
DTSTAMP:20230308T165226Z
URL:https://jawafreunde.de/index.php/termine/18-treffen-jawafreunde-chemnitz
DESCRIPTION:19. Treffen Jawafreunde Chemnitz
X-ALT-DESC;FMTTYPE=text/html:<p><strong>19. Treffen Jawafreunde Chemnitz</strong></p>
LAST-MODIFIED:20250217T114518Z
SEQUENCE:61498372
LOCATION:Zwickauer Straße 77\, 09112 Chemnitz\, Sachsen\, Deutschland
GEO:50.82620570;12.90831978
X-LOCATION-DISPLAYNAME:Museum für Sächsische Fahrzeuge Chemnitz
X-ACCESS:1
X-HITS:0
X-COLOR:3366cc
X-IMAGE-FULL-ALT:FlyerChemnitz
X-IMAGE-INTRO-ALT:FlyerChemnitz
X-SHOW-END-TIME:1
END:VEVENT
BEGIN:VEVENT
DTSTART;TZID=UTC:20251011T090000
DTEND;TZID=UTC:20251011T150000
UID:4FF689DA-F801-490D-9B0D-9AAFDFBFE7D6
SUMMARY:28.Jawa & Oldtimer Herbsttreffen
CREATED:20240903T113738Z
DTSTAMP:20240903T113738Z
URL:https://jawafreunde.de/index.php/termine/26-jawa-oldtimer-herbsttreffen
DESCRIPTION:28. Jawa & Oldtimer Herbsttreffen\Nauf dem Vereinsgelände in Rodewisch.\NFür das leibliche Wohl sorgt der Verein der Eintritt ist frei.
X-ALT-DESC;FMTTYPE=text/html:<p><strong>28. Jawa &amp; Oldtimer Herbsttreffen</strong></p><p>auf dem Vereinsgelände in Rodewisch.</p><p>Für das leibliche Wohl sorgt der Verein der Eintritt ist frei.</p>
LAST-MODIFIED:20260417T090514Z
SEQUENCE:51053256
LOCATION:Schloßstraße 3\, 08228 Rodewisch\, Sachsen\, Deutschland
GEO:50.52431726;12.40195078
X-LOCATION-DISPLAYNAME:Vereinsheim
X-ACCESS:1
X-HITS:0
X-COLOR:3366cc
X-SHOW-END-TIME:1
END:VEVENT
BEGIN:VEVENT
DTSTART;VALUE=DATE:20260110
DTEND;VALUE=DATE:20260111
UID:79F3F437-1E71-4690-936B-37CED0AC9EDA
SUMMARY:52. Wintertreffen Schloss Augustusburg
CREATED:20230205T191948Z
DTSTAMP:20230205T191948Z
URL:https://jawafreunde.de/index.php/termine/52-wintertreffen-schloss-augustusburg
DESCRIPTION:52. Wintertreffen der Motoradfahrer auf Schloss Augustusburg
X-ALT-DESC;FMTTYPE=text/html:<p><strong>52. Wintertreffen der Motoradfahrer auf Schloss Augustusburg</strong></p>
LAST-MODIFIED:20260107T104709Z
SEQUENCE:92158041
X-ACCESS:1
X-HITS:0
X-COLOR:3366cc
X-IMAGE-FULL-ALT:Augustusburg
X-IMAGE-INTRO-ALT:Augustusburg
X-SHOW-END-TIME:1
END:VEVENT
BEGIN:VEVENT
DTSTART;VALUE=DATE:20260501
DTEND;VALUE=DATE:20260502
UID:6968723F-AAE1-49D3-A332-E1F7494D5F1B
SUMMARY:25. JAWA und Oldtimer Frühjahrstreffen
CREATED:20230205T193620Z
DTSTAMP:20230205T193620Z
URL:https://jawafreunde.de/index.php/termine/25-jawa-und-oldtimer-fruehjahrstreffen
DESCRIPTION:25. JAWA und Oldtimer Frühjahrstreffen\N\NDie JAWAFREUNDE VOGTLAND e.V. ladenzum 1.Mai 2026 alle Interessiertenzum 25. Jawa & Oldtimertreffen ein.Das zur lieben Tradition gewordene Motorrad-Treffen gibt wieder einen Einblick auf die legendäre JAWA der unterschiedlichsten Typen undAusführungen, von alt bis neu. Selbstverständlich, und das hat sich in den letzten Jahren stetig entwickelt, sind die Motorradfahreranderer Marken und vierrädrige Oldtimer herzlich willkommen.\NACHTUNGWir bitten um Verständnis, dass nur bedingt PKW in das Festgelände einfahren können.
X-ALT-DESC;FMTTYPE=text/html:<p><strong>25. JAWA und Oldtimer Frühjahrstreffen</strong></p><hr id="system-readmore"><p>Die JAWAFREUNDE VOGTLAND e.V. laden<br />zum <a href="http://1.mai/" target="_blank" rel="noopener noreferrer">1.Mai</a> 2026 alle Interessierten<br />zum 25. Jawa &amp; Oldtimertreffen ein.<br /><br />Das zur lieben Tradition gewordene Motorrad-Treffen gibt wieder einen Einblick auf die legendäre JAWA der unterschiedlichsten Typen und<br />Ausführungen, von alt bis neu. Selbstverständlich, und das hat sich in den letzten Jahren stetig entwickelt, sind die Motorradfahrer<br />anderer Marken und vierrädrige Oldtimer herzlich willkommen.</p><p style="text-align: left;"><span style="color: #ff6600; font-size: 18px;"><span style="color: #e03e2d;"><strong>ACHTUNG</strong></span><br /><span style="color: #e03e2d;">Wir bitten um Verständnis, dass nur bedingt PKW in das Festgelände einfahren können.</span></span></p>
LAST-MODIFIED:20260417T132401Z
SEQUENCE:100806461
X-ACCESS:1
X-HITS:0
X-COLOR:3366cc
X-IMAGE-FULL:https://jawafreunde.de/images/Plakate2026/1Mai.jpeg
X-IMAGE-FULL-ALT:1.Mai
X-IMAGE-INTRO:https://jawafreunde.de/images/Plakate2026/1Mai.jpeg
X-IMAGE-INTRO-ALT:1.Mai
X-SHOW-END-TIME:1
END:VEVENT
BEGIN:VEVENT
DTSTART;VALUE=DATE:20260807
DTEND;VALUE=DATE:20260810
UID:133C6401-700A-4D18-B669-BE5889C2A02E
SUMMARY:23. JAWA 500 OHC Treffen
CREATED:20250205T195528Z
DTSTAMP:20250205T195528Z
URL:https://jawafreunde.de/index.php/termine/22-jawa-500-ohc-treffen
DESCRIPTION:223 JAWA 500 OHC Treffen\N 
X-ALT-DESC;FMTTYPE=text/html:<p><strong>223 JAWA 500 OHC Treffen</strong></p><p> </p>
LAST-MODIFIED:20260417T090421Z
SEQUENCE:37631333
LOCATION:Veitenhäuser 8\, 08233 Treuen\, Sachsen\, Deutschland
GEO:50.52820209;12.32109205
X-LOCATION-DISPLAYNAME:Veitenhäuser, Treuen
X-ACCESS:1
X-HITS:0
X-COLOR:3366cc
X-IMAGE-FULL-ALT:Flyer500Treffen
X-IMAGE-FULL-CAPTION:Flyer 500 Treffen
X-IMAGE-INTRO-ALT:Flyer500Treffen
X-IMAGE-INTRO-CAPTION:Flyer 500 Treffen
X-SHOW-END-TIME:1
END:VEVENT
BEGIN:VEVENT
DTSTART;VALUE=DATE:20261003
DTEND;VALUE=DATE:20261004
UID:11054C20-CD36-43E6-A0CD-0FCA5DDE0EC8
SUMMARY:34. Oldtimertreffen Schloss Augustusburg
CREATED:20230205T191948Z
DTSTAMP:20230205T191948Z
URL:https://jawafreunde.de/index.php/termine/34-oldtimertreffen-schloss-augustusburg
DESCRIPTION:34. Oldtimertreffen auf Schloss Augustusburg
X-ALT-DESC;FMTTYPE=text/html:<p><strong>34. Oldtimertreffen auf Schloss Augustusburg</strong></p>
LAST-MODIFIED:20260107T104709Z
SEQUENCE:92158041
X-ACCESS:1
X-HITS:0
X-COLOR:3366cc
X-IMAGE-FULL-ALT:Augustusburg
X-IMAGE-INTRO-ALT:Augustusburg
X-SHOW-END-TIME:1
END:VEVENT
BEGIN:VEVENT
DTSTART;TZID=UTC:20261212T190000
DTEND;TZID=UTC:20261212T210000
UID:9846DC0F-8B09-40C7-8484-9F4D534BB6C3
SUMMARY:Weinachtsfeier 2026
CREATED:20230204T163301Z
DTSTAMP:20230204T163301Z
URL:https://jawafreunde.de/index.php/termine/weinachtsfeier-2023
DESCRIPTION:Weinachtsfeier 2026\NInfos folgen
X-ALT-DESC;FMTTYPE=text/html:<p>Weinachtsfeier 2026</p><p>Infos folgen</p>
LAST-MODIFIED:20260107T110832Z
SEQUENCE:92255731
X-ACCESS:1
X-HITS:0
X-COLOR:3366cc
X-IMAGE-FULL-ALT:Mettenschicht
X-IMAGE-INTRO-ALT:Mettenschicht
X-SHOW-END-TIME:1
END:VEVENT
BEGIN:VEVENT
DTSTART;TZID=UTC:20261218T190000
DTEND;TZID=UTC:20261218T210000
UID:6D640AAB-1896-4479-8C59-32CAE6B32151
SUMMARY:Mettenschicht 2026
CREATED:20230204T163301Z
DTSTAMP:20230204T163301Z
URL:https://jawafreunde.de/index.php/termine/mettenschicht-2023
DESCRIPTION:Mettenschicht 2026\NInfos folgen
X-ALT-DESC;FMTTYPE=text/html:<p>Mettenschicht 2026</p><p>Infos folgen</p>
LAST-MODIFIED:20260417T132638Z
SEQUENCE:100904017
LOCATION:Schloßstraße 3\, 08228 Rodewisch\, Sachsen\, Deutschland
GEO:50.52431726;12.40195078
X-LOCATION-DISPLAYNAME:Vereinsheim
X-ACCESS:1
X-HITS:0
X-COLOR:3366cc
X-IMAGE-FULL:https://jawafreunde.de/images/Plakate2026/Mettenschicht.jpeg
X-IMAGE-FULL-ALT:Mettenschicht
X-IMAGE-INTRO:https://jawafreunde.de/images/Plakate2026/Mettenschicht.jpeg
X-IMAGE-INTRO-ALT:Mettenschicht
X-SHOW-END-TIME:1
END:VEVENT
BEGIN:VEVENT
DTSTART;TZID=UTC:20261231T180000
DTEND;TZID=UTC:20270101T020000
UID:C66DD9B5-E83A-4B0D-9E76-6D27619CB179
SUMMARY:Silvester 2026
CREATED:20230204T163301Z
DTSTAMP:20230204T163301Z
URL:https://jawafreunde.de/index.php/termine/silvester-2023
DESCRIPTION:Silvesterfeier 2026 im Vereinshaus
X-ALT-DESC;FMTTYPE=text/html:<p>Silvesterfeier 2026 im Vereinshaus</p>
LAST-MODIFIED:20260107T110844Z
SEQUENCE:92255743
LOCATION:Schloßstraße 3\, 08228 Rodewisch\, Sachsen\, Deutschland
GEO:50.52431726;12.40195078
X-LOCATION-DISPLAYNAME:Vereinsheim
X-ACCESS:1
X-HITS:0
X-COLOR:3366cc
X-IMAGE-FULL-ALT:Silvester
X-IMAGE-INTRO-ALT:Silvester
X-SHOW-END-TIME:1
END:VEVENT
END:VCALENDAR